BEGIN:VCALENDAR
VERSION:2.0
PRODID:www.hss.de
X-PUBLISHED-TTL:P1W
BEGIN:VEVENT
UID:69e5a04ecbde7
DTSTART:20261130T170000Z
SEQUENCE:0
TRANSP:OPAQUE
DTEND:20261130T183000Z
LOCATION:HSSdigital
SUMMARY:KI in der Medizintechnik
CLASS:PUBLIC
DESCRIPTION:Veranstaltung: https://www.hss.de/veranstaltungen/ki-in-der-med
 izintechnik-3260301551/\nMeine Veranstaltungen: https://www.hss.de/meine-v
 eranstaltungen/
DTSTAMP:20260420T034102Z
END:VEVENT
END:VCALENDAR