BEGIN:VCALENDAR
VERSION:2.0
PRODID:www.hss.de
X-PUBLISHED-TTL:P1W
BEGIN:VEVENT
UID:69ed6a121aa35
DTSTART:20260427T070000Z
SEQUENCE:0
TRANSP:OPAQUE
DTEND:20260427T080000Z
LOCATION:HSSdigital
SUMMARY:KI-Lernassistent Syntea:  KI-Avatar & Chatbot – die Zukunft des L
 ernens an der IU Internationale Hochschule & IU Akademie
CLASS:PUBLIC
DESCRIPTION:Veranstaltung: https://www.hss.de/veranstaltungen/ki-lernassist
 ent-syntea-ki-avatar-chatbot-die-zukunft-des-lernens-an-der-iu-internation
 ale-hochschule-iu-akademie-3260302812/\nMeine Veranstaltungen: https://www
 .hss.de/meine-veranstaltungen/
DTSTAMP:20260426T012746Z
END:VEVENT
END:VCALENDAR