BEGIN:VCALENDAR
VERSION:2.0
PRODID:www.hss.de
X-PUBLISHED-TTL:P1W
BEGIN:VEVENT
UID:69e70c67f1210
DTSTART:20260511T070000Z
SEQUENCE:0
TRANSP:OPAQUE
DTEND:20260511T080000Z
LOCATION:HSSdigital
SUMMARY:KI mit Konrad
CLASS:PUBLIC
DESCRIPTION:Veranstaltung: https://www.hss.de/veranstaltungen/ki-mit-konrad
 -3260302853/\nMeine Veranstaltungen: https://www.hss.de/meine-veranstaltun
 gen/
DTSTAMP:20260421T053432Z
END:VEVENT
END:VCALENDAR