BEGIN:VCALENDAR
VERSION:2.0
PRODID:www.hss.de
X-PUBLISHED-TTL:P1W
BEGIN:VEVENT
UID:69ea81cd70950
DTSTART:20260506T073000Z
SEQUENCE:0
TRANSP:OPAQUE
DTEND:20260506T090000Z
LOCATION:HSSdigital
SUMMARY:KI & Recht: Geistiges Eigentum\, Haftung & Verantwortung
CLASS:PUBLIC
DESCRIPTION:Veranstaltung: https://www.hss.de/veranstaltungen/ki-recht-geis
 tiges-eigentum-haftung-verantwortung-3260302842/\nMeine Veranstaltungen: h
 ttps://www.hss.de/meine-veranstaltungen/
DTSTAMP:20260423T203213Z
END:VEVENT
END:VCALENDAR