BEGIN:VCALENDAR
VERSION:2.0
PRODID:www.hss.de
X-PUBLISHED-TTL:P1W
BEGIN:VEVENT
UID:69e5829aa1ba9
DTSTART:20250404T143000Z
SEQUENCE:0
TRANSP:OPAQUE
DTEND:20250404T190000Z
LOCATION:München
SUMMARY:Kinofilm \"Nicht ganz koscher - Eine göttliche Komödie\"
CLASS:PUBLIC
DESCRIPTION:Veranstaltung: https://www.hss.de/veranstaltungen/kinofilm-nich
 t-ganz-koscher-eine-goettliche-komoedie-3250303102/\nMeine Veranstaltungen
 : https://www.hss.de/meine-veranstaltungen/
DTSTAMP:20260420T013418Z
END:VEVENT
END:VCALENDAR