BEGIN:VCALENDAR
VERSION:2.0
PRODID:www.hss.de
X-PUBLISHED-TTL:P1W
BEGIN:VEVENT
UID:69ea9b129e0e2
DTSTART:20240216T170000Z
SEQUENCE:0
TRANSP:OPAQUE
DTEND:20240218T120000Z
LOCATION:Bad Staffelstein
SUMMARY:Klimawandel als sicherheitspolitische Herausforderung
CLASS:PUBLIC
DESCRIPTION:Veranstaltung: https://www.hss.de/veranstaltungen/klimawandel-a
 ls-sicherheitspolitische-herausforderung-3240306002/\nMeine Veranstaltunge
 n: https://www.hss.de/meine-veranstaltungen/
DTSTAMP:20260423T222002Z
END:VEVENT
END:VCALENDAR