BEGIN:VCALENDAR
VERSION:2.0
PRODID:www.hss.de
X-PUBLISHED-TTL:P1W
BEGIN:VEVENT
UID:69e51e8cdbb8f
DTSTART:20260716T080000Z
SEQUENCE:0
TRANSP:OPAQUE
DTEND:20260717T140000Z
LOCATION:Bad Staffelstein
SUMMARY:KMU 4.0 Seminar
CLASS:PUBLIC
DESCRIPTION:Veranstaltung: https://www.hss.de/veranstaltungen/kmu-40-semina
 r-3260302011/\nMeine Veranstaltungen: https://www.hss.de/meine-veranstaltu
 ngen/
DTSTAMP:20260419T182725Z
END:VEVENT
END:VCALENDAR