BEGIN:VCALENDAR
VERSION:2.0
PRODID:www.hss.de
X-PUBLISHED-TTL:P1W
BEGIN:VEVENT
UID:69e8f09eab733
DTSTART:20200911T150000Z
SEQUENCE:0
TRANSP:OPAQUE
DTEND:20200913T100000Z
LOCATION:Bad Staffelstein
SUMMARY:KMU 4.0 Seminar - Design Thinking
CLASS:PUBLIC
DESCRIPTION:Veranstaltung: https://www.hss.de/veranstaltungen/kmu-40-semina
 r-design-thinking-3200302018/\nMeine Veranstaltungen: https://www.hss.de/m
 eine-veranstaltungen/
DTSTAMP:20260422T160030Z
END:VEVENT
END:VCALENDAR