BEGIN:VCALENDAR
VERSION:2.0
PRODID:www.hss.de
X-PUBLISHED-TTL:P1W
BEGIN:VEVENT
UID:69ea28269e172
DTSTART:20210918T163000Z
SEQUENCE:0
TRANSP:OPAQUE
DTEND:20210919T103000Z
LOCATION:Utting am Ammersee
SUMMARY:Kommunalpolitik: Pflege von Städtepartnerschaften
CLASS:PUBLIC
DESCRIPTION:Veranstaltung: https://www.hss.de/veranstaltungen/kommunalpolit
 ik-pflege-von-staedtepartnerschaften-3210307615/\nMeine Veranstaltungen: h
 ttps://www.hss.de/meine-veranstaltungen/
DTSTAMP:20260423T140942Z
END:VEVENT
END:VCALENDAR