BEGIN:VCALENDAR
VERSION:2.0
PRODID:www.hss.de
X-PUBLISHED-TTL:P1W
BEGIN:VEVENT
UID:69e94e61dcf89
DTSTART:20250523T160000Z
SEQUENCE:0
TRANSP:OPAQUE
DTEND:20250525T100000Z
LOCATION:Bad Staffelstein
SUMMARY:Kommunalpolitik - Werkzeuge einer modernen Wahlkampfführung
CLASS:PUBLIC
DESCRIPTION:Veranstaltung: https://www.hss.de/veranstaltungen/kommunalpolit
 ik-werkzeuge-einer-modernen-wahlkampffuehrung-3250307605/\nMeine Veranstal
 tungen: https://www.hss.de/meine-veranstaltungen/
DTSTAMP:20260422T224034Z
END:VEVENT
END:VCALENDAR