BEGIN:VCALENDAR
VERSION:2.0
PRODID:www.hss.de
X-PUBLISHED-TTL:P1W
BEGIN:VEVENT
UID:69ea00b123bb0
DTSTART:20230929T160000Z
SEQUENCE:0
TRANSP:OPAQUE
DTEND:20231003T110000Z
LOCATION:Bad Staffelstein
SUMMARY:Konfliktregion Indo-Pazifik: Das lange China-Indien-Wochenende
CLASS:PUBLIC
DESCRIPTION:Veranstaltung: https://www.hss.de/veranstaltungen/konfliktregio
 n-indo-pazifik-das-lange-china-indien-wochenende-3230306014/\nMeine Verans
 taltungen: https://www.hss.de/meine-veranstaltungen/
DTSTAMP:20260423T112121Z
END:VEVENT
END:VCALENDAR