BEGIN:VCALENDAR
VERSION:2.0
PRODID:www.hss.de
X-PUBLISHED-TTL:P1W
BEGIN:VEVENT
UID:69e610b0dd3b8
DTSTART:20250301T083000Z
SEQUENCE:0
TRANSP:OPAQUE
DTEND:20250302T150000Z
LOCATION:HSSdigital
SUMMARY:Kreatives Schreiben
CLASS:PUBLIC
DESCRIPTION:Veranstaltung: https://www.hss.de/veranstaltungen/kreatives-sch
 reiben-3250304007/\nMeine Veranstaltungen: https://www.hss.de/meine-verans
 taltungen/
DTSTAMP:20260420T114033Z
END:VEVENT
END:VCALENDAR