BEGIN:VCALENDAR
VERSION:2.0
PRODID:www.hss.de
X-PUBLISHED-TTL:P1W
BEGIN:VEVENT
UID:69e984ad6757b
DTSTART:20241014T160000Z
SEQUENCE:0
TRANSP:OPAQUE
DTEND:20241014T180000Z
LOCATION:HSSdigital
SUMMARY:Kritik der Kritik im Zeitgespräch: Theodor Adorno et al.
CLASS:PUBLIC
DESCRIPTION:Veranstaltung: https://www.hss.de/veranstaltungen/kritik-der-kr
 itik-im-zeitgespraech-theodor-adorno-et-al-3240303337/\nMeine Veranstaltun
 gen: https://www.hss.de/meine-veranstaltungen/
DTSTAMP:20260423T023213Z
END:VEVENT
END:VCALENDAR