BEGIN:VCALENDAR
VERSION:2.0
PRODID:www.hss.de
X-PUBLISHED-TTL:P1W
BEGIN:VEVENT
UID:69eb276d47a37
DTSTART:20260212T150000Z
SEQUENCE:0
TRANSP:OPAQUE
DTEND:20260212T163000Z
LOCATION:München
SUMMARY:Kritische Partnerschaften für kritische Rohstoffe: Wie neue Allian
 zen nachhaltige wirtschaftliche Entwicklung sichern
CLASS:PUBLIC
DESCRIPTION:Veranstaltung: https://www.hss.de/veranstaltungen/kritische-par
 tnerschaften-fuer-kritische-rohstoffe-wie-neue-allianzen-nachhaltige-wirts
 chaftliche-entwicklung-sichern-5260523005/\nMeine Veranstaltungen: https:/
 /www.hss.de/meine-veranstaltungen/
DTSTAMP:20260424T081853Z
END:VEVENT
END:VCALENDAR