BEGIN:VCALENDAR
VERSION:2.0
PRODID:www.hss.de
X-PUBLISHED-TTL:P1W
BEGIN:VEVENT
UID:69eb9c862301a
DTSTART:20260717T103000Z
SEQUENCE:0
TRANSP:OPAQUE
DTEND:20260717T123000Z
LOCATION:München
SUMMARY:Künstliche Intelligenz im Handwerk
CLASS:PUBLIC
DESCRIPTION:Veranstaltung: https://www.hss.de/veranstaltungen/kuenstliche-i
 ntelligenz-im-handwerk-3260203003/\nMeine Veranstaltungen: https://www.hss
 .de/meine-veranstaltungen/
DTSTAMP:20260424T163830Z
END:VEVENT
END:VCALENDAR