BEGIN:VCALENDAR
VERSION:2.0
PRODID:www.hss.de
X-PUBLISHED-TTL:P1W
BEGIN:VEVENT
UID:69e91992af9be
DTSTART:20240328T173000Z
SEQUENCE:0
TRANSP:OPAQUE
DTEND:20240328T190000Z
LOCATION:HSSdigital
SUMMARY:Kultur in Europa
CLASS:PUBLIC
DESCRIPTION:Veranstaltung: https://www.hss.de/veranstaltungen/kultur-in-eur
 opa-3240305609/\nMeine Veranstaltungen: https://www.hss.de/meine-veranstal
 tungen/
DTSTAMP:20260422T185514Z
END:VEVENT
END:VCALENDAR