BEGIN:VCALENDAR
VERSION:2.0
PRODID:www.hss.de
X-PUBLISHED-TTL:P1W
BEGIN:VEVENT
UID:69ea45860f7b5
DTSTART:20260617T150000Z
SEQUENCE:0
TRANSP:OPAQUE
DTEND:20260617T190000Z
SUMMARY:Kurzfilmvorführung mit anschließendem Regisseurengespräch
CLASS:PUBLIC
DESCRIPTION:Veranstaltung: https://www.hss.de/veranstaltungen/kurzfilmvorfu
 ehrung-mit-anschliessendem-regisseurengespraech-3260303110/\nMeine Veranst
 altungen: https://www.hss.de/meine-veranstaltungen/
DTSTAMP:20260423T161502Z
END:VEVENT
END:VCALENDAR