BEGIN:VCALENDAR
VERSION:2.0
PRODID:www.hss.de
X-PUBLISHED-TTL:P1W
BEGIN:VEVENT
UID:69e5b7e03b4b5
DTSTART:20260507T124500Z
SEQUENCE:0
TRANSP:OPAQUE
DTEND:20260507T144500Z
LOCATION:Deining
SUMMARY:Lebensgestaltung im Alter
CLASS:PUBLIC
DESCRIPTION:Veranstaltung: https://www.hss.de/veranstaltungen/lebensgestalt
 ung-im-alter-3260309006/\nMeine Veranstaltungen: https://www.hss.de/meine-
 veranstaltungen/
DTSTAMP:20260420T052136Z
END:VEVENT
END:VCALENDAR