BEGIN:VCALENDAR
VERSION:2.0
PRODID:www.hss.de
X-PUBLISHED-TTL:P1W
BEGIN:VEVENT
UID:69e90d4d2bb2a
DTSTART:20220330T160000Z
SEQUENCE:0
TRANSP:OPAQUE
DTEND:20220330T173000Z
LOCATION:Nürnberg
SUMMARY:Lesung \"Die Narben vererben sich weiter\" mit Jennifer Teege und B
 undesminister a.D. Christian Schmidt\, MdB
CLASS:PUBLIC
DESCRIPTION:Veranstaltung: https://www.hss.de/veranstaltungen/lesung-die-na
 rben-vererben-sich-weiter-mit-jennifer-teege-und-bundesminister-ad-christi
 an-schmidt-mdb-3220080001/\nMeine Veranstaltungen: https://www.hss.de/mein
 e-veranstaltungen/
DTSTAMP:20260422T180253Z
END:VEVENT
END:VCALENDAR