BEGIN:VCALENDAR
VERSION:2.0
PRODID:www.hss.de
X-PUBLISHED-TTL:P1W
BEGIN:VEVENT
UID:69e5e3f7a7aeb
DTSTART:20260424T173000Z
SEQUENCE:0
TRANSP:OPAQUE
DTEND:20260424T193000Z
LOCATION:München
SUMMARY:Lesung zu \"Goodbye\, Amerika? Die USA und wir – eine Neuvermessu
 ng\" mit Autorin und internationalen Korrespondentin der ZEIT Rieke Havert
 z
CLASS:PUBLIC
DESCRIPTION:Veranstaltung: https://www.hss.de/veranstaltungen/lesung-zu-goo
 dbye-amerika-die-usa-und-wir-eine-neuvermessung-mit-autorin-und-internatio
 nalen-korrespondentin-der-zeit-rieke-havertz-3260304019/\nMeine Veranstalt
 ungen: https://www.hss.de/meine-veranstaltungen/
DTSTAMP:20260420T082943Z
END:VEVENT
END:VCALENDAR