BEGIN:VCALENDAR
VERSION:2.0
PRODID:www.hss.de
X-PUBLISHED-TTL:P1W
BEGIN:VEVENT
UID:69e4f33587718
DTSTART:20260610T160000Z
SEQUENCE:0
TRANSP:OPAQUE
DTEND:20260610T180000Z
LOCATION:HSSdigital
SUMMARY:LETS START UP! Der Booster für deine Geschäftsidee: Netzwerke\, S
 hareholder\, Stakeholder & mehr
CLASS:PUBLIC
DESCRIPTION:Veranstaltung: https://www.hss.de/veranstaltungen/lets-start-up
 -der-booster-fuer-deine-geschaeftsidee-netzwerke-shareholder-stakeholder-m
 ehr-3260302822/\nMeine Veranstaltungen: https://www.hss.de/meine-veranstal
 tungen/
DTSTAMP:20260419T152229Z
END:VEVENT
END:VCALENDAR