BEGIN:VCALENDAR
VERSION:2.0
PRODID:www.hss.de
X-PUBLISHED-TTL:P1W
BEGIN:VEVENT
UID:69eb7e4bb4832
DTSTART:20260516T073000Z
SEQUENCE:0
TRANSP:OPAQUE
DTEND:20260516T123000Z
LOCATION:Rödental
SUMMARY:LETS START UP! Der Weg von der Idee bis zum Start 
CLASS:PUBLIC
DESCRIPTION:Veranstaltung: https://www.hss.de/veranstaltungen/lets-start-up
 -der-weg-von-der-idee-bis-zum-start-3260302502/\nMeine Veranstaltungen: ht
 tps://www.hss.de/meine-veranstaltungen/
DTSTAMP:20260424T142931Z
END:VEVENT
END:VCALENDAR