BEGIN:VCALENDAR
VERSION:2.0
PRODID:www.hss.de
X-PUBLISHED-TTL:P1W
BEGIN:VEVENT
UID:69e6cfcf63fdf
DTSTART:20261114T083000Z
SEQUENCE:0
TRANSP:OPAQUE
DTEND:20261114T133000Z
LOCATION:Bamberg
SUMMARY:LETS START UP! Der Weg von der Idee bis zum Start 
CLASS:PUBLIC
DESCRIPTION:Veranstaltung: https://www.hss.de/veranstaltungen/lets-start-up
 -der-weg-von-der-idee-bis-zum-start-3260302503/\nMeine Veranstaltungen: ht
 tps://www.hss.de/meine-veranstaltungen/
DTSTAMP:20260421T011559Z
END:VEVENT
END:VCALENDAR