BEGIN:VCALENDAR
VERSION:2.0
PRODID:www.hss.de
X-PUBLISHED-TTL:P1W
BEGIN:VEVENT
UID:69e8c2bd8a9ad
DTSTART:20260324T170000Z
SEQUENCE:0
TRANSP:OPAQUE
DTEND:20260324T190000Z
LOCATION:HSSdigital
SUMMARY:LETS START UP! Die eigene Idee strategisch einordnen: Markt\, Wettb
 ewerb und Umfeld verstehen 
CLASS:PUBLIC
DESCRIPTION:Veranstaltung: https://www.hss.de/veranstaltungen/lets-start-up
 -die-eigene-idee-strategisch-einordnen-markt-wettbewerb-und-umfeld-versteh
 en-3260302820/\nMeine Veranstaltungen: https://www.hss.de/meine-veranstalt
 ungen/
DTSTAMP:20260422T124445Z
END:VEVENT
END:VCALENDAR