BEGIN:VCALENDAR
VERSION:2.0
PRODID:www.hss.de
X-PUBLISHED-TTL:P1W
BEGIN:VEVENT
UID:69e5cf067ec03
DTSTART:20211009T073000Z
SEQUENCE:0
TRANSP:OPAQUE
DTEND:20211009T123000Z
LOCATION:München
SUMMARY:Marktwirtschaft & Klimaschutz nach der Bundestagswahl
CLASS:PUBLIC
DESCRIPTION:Veranstaltung: https://www.hss.de/veranstaltungen/marktwirtscha
 ft-klimaschutz-nach-der-bundestagswahl-3210302401/\nMeine Veranstaltungen:
  https://www.hss.de/meine-veranstaltungen/
DTSTAMP:20260420T070022Z
END:VEVENT
END:VCALENDAR