BEGIN:VCALENDAR
VERSION:2.0
PRODID:www.hss.de
X-PUBLISHED-TTL:P1W
BEGIN:VEVENT
UID:69e4f79c831e2
DTSTART:20230504T160000Z
SEQUENCE:0
TRANSP:OPAQUE
DTEND:20230504T180000Z
LOCATION:HSSdigital
SUMMARY:May the Force be with You - Krieg der Sterne (1977)
CLASS:PUBLIC
DESCRIPTION:Veranstaltung: https://www.hss.de/veranstaltungen/may-the-force
 -be-with-you-krieg-der-sterne-1977-3230303330/\nMeine Veranstaltungen: htt
 ps://www.hss.de/meine-veranstaltungen/
DTSTAMP:20260419T154116Z
END:VEVENT
END:VCALENDAR