BEGIN:VCALENDAR
VERSION:2.0
PRODID:www.hss.de
X-PUBLISHED-TTL:P1W
BEGIN:VEVENT
UID:69e88da869636
DTSTART:20221028T150000Z
SEQUENCE:0
TRANSP:OPAQUE
DTEND:20221030T120000Z
LOCATION:Bad Staffelstein
SUMMARY:Midterms 2022 - US-Präsident Joe Biden auf dem Prüfstand
CLASS:PUBLIC
DESCRIPTION:Veranstaltung: https://www.hss.de/veranstaltungen/midterms-2022
 -us-praesident-joe-biden-auf-dem-pruefstand-3220306017/\nMeine Veranstaltu
 ngen: https://www.hss.de/meine-veranstaltungen/
DTSTAMP:20260422T085816Z
END:VEVENT
END:VCALENDAR