BEGIN:VCALENDAR
VERSION:2.0
PRODID:www.hss.de
X-PUBLISHED-TTL:P1W
BEGIN:VEVENT
UID:69e9e8cc63204
DTSTART:20260227T163000Z
SEQUENCE:0
TRANSP:OPAQUE
DTEND:20260301T120000Z
LOCATION:Bad Staffelstein
SUMMARY:Mit KI und Social Media Herzen gewinnen: Emotionale Öffentlichkeit
 sarbeit im digitalen Zeitalter
CLASS:PUBLIC
DESCRIPTION:Veranstaltung: https://www.hss.de/veranstaltungen/mit-ki-und-so
 cial-media-herzen-gewinnen-emotionale-oeffentlichkeitsarbeit-im-digitalen-
 zeitalter-3260301103/\nMeine Veranstaltungen: https://www.hss.de/meine-ver
 anstaltungen/
DTSTAMP:20260423T093924Z
END:VEVENT
END:VCALENDAR