BEGIN:VCALENDAR
VERSION:2.0
PRODID:www.hss.de
X-PUBLISHED-TTL:P1W
BEGIN:VEVENT
UID:69e5335edd161
DTSTART:20260621T153000Z
SEQUENCE:0
TRANSP:OPAQUE
DTEND:20260626T110000Z
LOCATION:Bad Staffelstein
SUMMARY:Mitbestimmungsrechte in sozialen Angelegenheiten für Einsteiger un
 d Fortgeschrittene
CLASS:PUBLIC
DESCRIPTION:Veranstaltung: https://www.hss.de/veranstaltungen/mitbestimmung
 srechte-in-sozialen-angelegenheiten-fuer-einsteiger-und-fortgeschrittene-3
 260305703/\nMeine Veranstaltungen: https://www.hss.de/meine-veranstaltunge
 n/
DTSTAMP:20260419T195615Z
END:VEVENT
END:VCALENDAR