BEGIN:VCALENDAR
VERSION:2.0
PRODID:www.hss.de
X-PUBLISHED-TTL:P1W
BEGIN:VEVENT
UID:69eb986512ac5
DTSTART:20230523T163000Z
SEQUENCE:0
TRANSP:OPAQUE
DTEND:20230523T181500Z
LOCATION:Günzburg
SUMMARY:Mobil in Bayern - was treibt uns an?
CLASS:PUBLIC
DESCRIPTION:Veranstaltung: https://www.hss.de/veranstaltungen/mobil-in-baye
 rn-was-treibt-uns-an-3230301401/\nMeine Veranstaltungen: https://www.hss.d
 e/meine-veranstaltungen/
DTSTAMP:20260424T162053Z
END:VEVENT
END:VCALENDAR