BEGIN:VCALENDAR
VERSION:2.0
PRODID:www.hss.de
X-PUBLISHED-TTL:P1W
BEGIN:VEVENT
UID:69eb98595d9b6
DTSTART:20230316T173000Z
SEQUENCE:0
TRANSP:OPAQUE
DTEND:20230316T191500Z
LOCATION:Rosenheim
SUMMARY:Mobil in Bayern - was treibt uns an?
CLASS:PUBLIC
DESCRIPTION:Veranstaltung: https://www.hss.de/veranstaltungen/mobil-in-baye
 rn-was-treibt-uns-an-3230301405/\nMeine Veranstaltungen: https://www.hss.d
 e/meine-veranstaltungen/
DTSTAMP:20260424T162041Z
END:VEVENT
END:VCALENDAR