BEGIN:VCALENDAR
VERSION:2.0
PRODID:www.hss.de
X-PUBLISHED-TTL:P1W
BEGIN:VEVENT
UID:69e7c1621cfd5
DTSTART:20260410T153000Z
SEQUENCE:0
TRANSP:OPAQUE
DTEND:20260412T110000Z
LOCATION:Bad Staffelstein
SUMMARY:Moderationsmethode - Moderationstechniken - Moderationspraxis
CLASS:PUBLIC
DESCRIPTION:Veranstaltung: https://www.hss.de/veranstaltungen/moderationsme
 thode-moderationstechniken-moderationspraxis-3260301104/\nMeine Veranstalt
 ungen: https://www.hss.de/meine-veranstaltungen/
DTSTAMP:20260421T182642Z
END:VEVENT
END:VCALENDAR