BEGIN:VCALENDAR
VERSION:2.0
PRODID:www.hss.de
X-PUBLISHED-TTL:P1W
BEGIN:VEVENT
UID:69e4b87d63d55
DTSTART:20260505T160000Z
SEQUENCE:0
TRANSP:OPAQUE
DTEND:20260505T180000Z
LOCATION:HSSdigital
SUMMARY:Nach der Wahl ist vor der Debatte: Gesellschaftlich-politisches Eng
 agement von Russlanddeutschen im Fokus
CLASS:PUBLIC
DESCRIPTION:Veranstaltung: https://www.hss.de/veranstaltungen/nach-der-wahl
 -ist-vor-der-debatte-gesellschaftlich-politisches-engagement-von-russlandd
 eutschen-im-fokus-3260305108/\nMeine Veranstaltungen: https://www.hss.de/m
 eine-veranstaltungen/
DTSTAMP:20260419T111157Z
END:VEVENT
END:VCALENDAR