BEGIN:VCALENDAR
VERSION:2.0
PRODID:www.hss.de
X-PUBLISHED-TTL:P1W
BEGIN:VEVENT
UID:69e8d848c2f84
DTSTART:20241007T140000Z
SEQUENCE:0
TRANSP:OPAQUE
DTEND:20241007T173000Z
LOCATION:München
SUMMARY:Netzwerkkonferenz „Ansätze gegen FGM/C in Bayern“ - Gemeinsam 
 gegen FGM/C in Bayern für mehr Empowerment für betroffene Frauen und Mä
 dchen
CLASS:PUBLIC
DESCRIPTION:Veranstaltung: https://www.hss.de/veranstaltungen/netzwerkkonfe
 renz-ansaetze-gegen-fgmc-in-bayern-gemeinsam-gegen-fgmc-in-bayern-fuer-meh
 r-empowerment-fuer-betroffene-frauen-und-maedchen-3240302407/\nMeine Veran
 staltungen: https://www.hss.de/meine-veranstaltungen/
DTSTAMP:20260422T141641Z
END:VEVENT
END:VCALENDAR