BEGIN:VCALENDAR
VERSION:2.0
PRODID:www.hss.de
X-PUBLISHED-TTL:P1W
BEGIN:VEVENT
UID:69e842ef9ae95
DTSTART:20260418T073000Z
SEQUENCE:0
TRANSP:OPAQUE
DTEND:20260418T103000Z
LOCATION:Regen
SUMMARY:Neues Mitglied in kommunalen Selbstverwaltungsorganen - Was kommt a
 uf Sie zu?
CLASS:PUBLIC
DESCRIPTION:Veranstaltung: https://www.hss.de/veranstaltungen/neues-mitglie
 d-in-kommunalen-selbstverwaltungsorganen-was-kommt-auf-sie-zu-3260307625/\
 nMeine Veranstaltungen: https://www.hss.de/meine-veranstaltungen/
DTSTAMP:20260422T033927Z
END:VEVENT
END:VCALENDAR