BEGIN:VCALENDAR
VERSION:2.0
PRODID:www.hss.de
X-PUBLISHED-TTL:P1W
BEGIN:VEVENT
UID:69e4cf133f3e4
DTSTART:20260323T080000Z
SEQUENCE:0
TRANSP:OPAQUE
DTEND:20260323T090000Z
LOCATION:HSSdigital
SUMMARY:Neuland AI - KI-Plattform für Unternehmen und Organisationen
CLASS:PUBLIC
DESCRIPTION:Veranstaltung: https://www.hss.de/veranstaltungen/neuland-ai-ki
 -plattform-fuer-unternehmen-und-organisationen-3260302809/\nMeine Veransta
 ltungen: https://www.hss.de/meine-veranstaltungen/
DTSTAMP:20260419T124819Z
END:VEVENT
END:VCALENDAR