BEGIN:VCALENDAR
VERSION:2.0
PRODID:www.hss.de
X-PUBLISHED-TTL:P1W
BEGIN:VEVENT
UID:69e7aa4e05dc6
DTSTART:20251117T171500Z
SEQUENCE:0
TRANSP:OPAQUE
DTEND:20251117T184500Z
LOCATION:HSSdigital
SUMMARY:NEXT GENERATION – Let’s Do It – Vom Karriereplan zum Erfolg
CLASS:PUBLIC
DESCRIPTION:Veranstaltung: https://www.hss.de/veranstaltungen/next-generati
 on-lets-do-it-vom-karriereplan-zum-erfolg-3250302890/\nMeine Veranstaltung
 en: https://www.hss.de/meine-veranstaltungen/
DTSTAMP:20260421T164814Z
END:VEVENT
END:VCALENDAR