BEGIN:VCALENDAR
VERSION:2.0
PRODID:www.hss.de
X-PUBLISHED-TTL:P1W
BEGIN:VEVENT
UID:69e865670ee22
DTSTART:20260422T170000Z
SEQUENCE:0
TRANSP:OPAQUE
DTEND:20260422T182000Z
LOCATION:HSSdigital
SUMMARY:NEXT GENERATION  LinkedIn – dein Netzwerk zur Vernetzung\, Jobsuc
 he & Karriereentwicklung
CLASS:PUBLIC
DESCRIPTION:Veranstaltung: https://www.hss.de/veranstaltungen/next-generati
 on-linkedin-dein-netzwerk-zur-vernetzung-jobsuche-karriereentwicklung-3260
 302816/\nMeine Veranstaltungen: https://www.hss.de/meine-veranstaltungen/
DTSTAMP:20260422T060631Z
END:VEVENT
END:VCALENDAR