BEGIN:VCALENDAR
VERSION:2.0
PRODID:www.hss.de
X-PUBLISHED-TTL:P1W
BEGIN:VEVENT
UID:69e65a1f1a31e
DTSTART:20240711T163000Z
SEQUENCE:0
TRANSP:OPAQUE
DTEND:20240711T175500Z
LOCATION:HSSdigital
SUMMARY:NEXT GENERATION Mein Auslandsjahr
CLASS:PUBLIC
DESCRIPTION:Veranstaltung: https://www.hss.de/veranstaltungen/next-generati
 on-mein-auslandsjahr-3240302841/\nMeine Veranstaltungen: https://www.hss.d
 e/meine-veranstaltungen/
DTSTAMP:20260420T165351Z
END:VEVENT
END:VCALENDAR