BEGIN:VCALENDAR
VERSION:2.0
PRODID:www.hss.de
X-PUBLISHED-TTL:P1W
BEGIN:VEVENT
UID:69e591a1708e9
DTSTART:20260617T170000Z
SEQUENCE:0
TRANSP:OPAQUE
DTEND:20260617T182000Z
LOCATION:HSSdigital
SUMMARY:NEXT GENERATION Meine erste Wohnung - Suche\, Kaution\, Versicherun
 g\, Nebenkosten\, etc.
CLASS:PUBLIC
DESCRIPTION:Veranstaltung: https://www.hss.de/veranstaltungen/next-generati
 on-meine-erste-wohnung-suche-kaution-versicherung-nebenkosten-etc-32603028
 37/\nMeine Veranstaltungen: https://www.hss.de/meine-veranstaltungen/
DTSTAMP:20260420T023825Z
END:VEVENT
END:VCALENDAR