BEGIN:VCALENDAR
VERSION:2.0
PRODID:www.hss.de
X-PUBLISHED-TTL:P1W
BEGIN:VEVENT
UID:69eb50c3eef20
DTSTART:20260505T181500Z
SEQUENCE:0
TRANSP:OPAQUE
DTEND:20260505T194500Z
LOCATION:HSSdigital
SUMMARY:NEXT GENERATION Work & Travel - im Ausland Geld verdienen
CLASS:PUBLIC
DESCRIPTION:Veranstaltung: https://www.hss.de/veranstaltungen/next-generati
 on-work-travel-im-ausland-geld-verdienen-3260302836/\nMeine Veranstaltunge
 n: https://www.hss.de/meine-veranstaltungen/
DTSTAMP:20260424T111516Z
END:VEVENT
END:VCALENDAR