BEGIN:VCALENDAR
VERSION:2.0
PRODID:www.hss.de
X-PUBLISHED-TTL:P1W
BEGIN:VEVENT
UID:69e8d3cdb888e
DTSTART:20240312T140000Z
SEQUENCE:0
TRANSP:OPAQUE
DTEND:20240312T160000Z
LOCATION:HSSdigital
SUMMARY:Online-Café: Brennpunkt Nahost: aktuelle Entwicklungen in Israel
CLASS:PUBLIC
DESCRIPTION:Veranstaltung: https://www.hss.de/veranstaltungen/online-cafe-b
 rennpunkt-nahost-aktuelle-entwicklungen-in-israel-3240306205/\nMeine Veran
 staltungen: https://www.hss.de/meine-veranstaltungen/
DTSTAMP:20260422T135733Z
END:VEVENT
END:VCALENDAR