BEGIN:VCALENDAR
VERSION:2.0
PRODID:www.hss.de
X-PUBLISHED-TTL:P1W
BEGIN:VEVENT
UID:69eb3a5d98fb0
DTSTART:20240618T130000Z
SEQUENCE:0
TRANSP:OPAQUE
DTEND:20240618T150000Z
LOCATION:HSSdigital
SUMMARY:Online-Café: Der Islamismus - Gefahr für Europa
CLASS:PUBLIC
DESCRIPTION:Veranstaltung: https://www.hss.de/veranstaltungen/online-cafe-d
 er-islamismus-gefahr-fuer-europa-3240306217/\nMeine Veranstaltungen: https
 ://www.hss.de/meine-veranstaltungen/
DTSTAMP:20260424T093941Z
END:VEVENT
END:VCALENDAR