BEGIN:VCALENDAR
VERSION:2.0
PRODID:www.hss.de
X-PUBLISHED-TTL:P1W
BEGIN:VEVENT
UID:69eabe5e43bfe
DTSTART:20220316T170000Z
SEQUENCE:0
TRANSP:OPAQUE
DTEND:20220316T190000Z
LOCATION:HSSdigital
SUMMARY:Online-Seminar: 100. Geburtstag von Egon Bahr - Wandel durch Annäh
 erung
CLASS:PUBLIC
DESCRIPTION:Veranstaltung: https://www.hss.de/veranstaltungen/online-semina
 r-100-geburtstag-von-egon-bahr-wandel-durch-annaeherung-3220306211/\nMeine
  Veranstaltungen: https://www.hss.de/meine-veranstaltungen/
DTSTAMP:20260424T005038Z
END:VEVENT
END:VCALENDAR