BEGIN:VCALENDAR
VERSION:2.0
PRODID:www.hss.de
X-PUBLISHED-TTL:P1W
BEGIN:VEVENT
UID:69ed8e50101bf
DTSTART:20260526T170000Z
SEQUENCE:0
TRANSP:OPAQUE
DTEND:20260526T180000Z
LOCATION:HSSdigital
SUMMARY:Online-Seminar auf YouTube: KI im Krieg
CLASS:PUBLIC
DESCRIPTION:Veranstaltung: https://www.hss.de/veranstaltungen/online-semina
 r-auf-youtube-ki-im-krieg-3260301805/\nMeine Veranstaltungen: https://www.
 hss.de/meine-veranstaltungen/
DTSTAMP:20260426T040224Z
END:VEVENT
END:VCALENDAR