BEGIN:VCALENDAR
VERSION:2.0
PRODID:www.hss.de
X-PUBLISHED-TTL:P1W
BEGIN:VEVENT
UID:69e7674120248
DTSTART:20260630T170000Z
SEQUENCE:0
TRANSP:OPAQUE
DTEND:20260630T180000Z
LOCATION:HSSdigital
SUMMARY:Online-Seminar auf YouTube: Netzwerk
CLASS:PUBLIC
DESCRIPTION:Veranstaltung: https://www.hss.de/veranstaltungen/online-semina
 r-auf-youtube-netzwerk-3260301806/\nMeine Veranstaltungen: https://www.hss
 .de/meine-veranstaltungen/
DTSTAMP:20260421T120209Z
END:VEVENT
END:VCALENDAR