BEGIN:VCALENDAR
VERSION:2.0
PRODID:www.hss.de
X-PUBLISHED-TTL:P1W
BEGIN:VEVENT
UID:69e4f7c402798
DTSTART:20211109T170000Z
SEQUENCE:0
TRANSP:OPAQUE
DTEND:20211109T185000Z
LOCATION:HSSdigital
SUMMARY:ONLINE-SEMINAR: Change Management
CLASS:PUBLIC
DESCRIPTION:Veranstaltung: https://www.hss.de/veranstaltungen/online-semina
 r-change-management-3210302948/\nMeine Veranstaltungen: https://www.hss.de
 /meine-veranstaltungen/
DTSTAMP:20260419T154156Z
END:VEVENT
END:VCALENDAR