BEGIN:VCALENDAR
VERSION:2.0
PRODID:www.hss.de
X-PUBLISHED-TTL:P1W
BEGIN:VEVENT
UID:69e52ee54c221
DTSTART:20210202T170000Z
SEQUENCE:0
TRANSP:OPAQUE
DTEND:20210202T193000Z
LOCATION:HSSdigital
SUMMARY:ONLINE-SEMINAR: Cybermobbing
CLASS:PUBLIC
DESCRIPTION:Veranstaltung: https://www.hss.de/veranstaltungen/online-semina
 r-cybermobbing-3210303320/\nMeine Veranstaltungen: https://www.hss.de/mein
 e-veranstaltungen/
DTSTAMP:20260419T193709Z
END:VEVENT
END:VCALENDAR