BEGIN:VCALENDAR
VERSION:2.0
PRODID:www.hss.de
X-PUBLISHED-TTL:P1W
BEGIN:VEVENT
UID:69e7937c5be25
DTSTART:20210403T113000Z
SEQUENCE:0
TRANSP:OPAQUE
DTEND:20210403T132000Z
LOCATION:HSSdigital
SUMMARY:ONLINE-SEMINAR: Die Welt der ETFs und Möglichkeiten für den Verm
 ögensaufbau 
CLASS:PUBLIC
DESCRIPTION:Veranstaltung: https://www.hss.de/veranstaltungen/online-semina
 r-die-welt-der-etfs-und-moeglichkeiten-fuer-den-vermoegensaufbau-321030287
 5/\nMeine Veranstaltungen: https://www.hss.de/meine-veranstaltungen/
DTSTAMP:20260421T151052Z
END:VEVENT
END:VCALENDAR