BEGIN:VCALENDAR
VERSION:2.0
PRODID:www.hss.de
X-PUBLISHED-TTL:P1W
BEGIN:VEVENT
UID:69e8dc4e77fae
DTSTART:20231204T080000Z
SEQUENCE:0
TRANSP:OPAQUE
DTEND:20231204T090000Z
LOCATION:HSSdigital
SUMMARY:Online-Seminar: Einführung in KI-Tools: Texten und Recherche leich
 tgemacht
CLASS:PUBLIC
DESCRIPTION:Veranstaltung: https://www.hss.de/veranstaltungen/online-semina
 r-einfuehrung-in-ki-tools-texten-und-recherche-leichtgemacht-3230302881/\n
 Meine Veranstaltungen: https://www.hss.de/meine-veranstaltungen/
DTSTAMP:20260422T143350Z
END:VEVENT
END:VCALENDAR